BEGIN:VCALENDAR
VERSION:2.0
PRODID:-//The Light of Truth: Richard Hunt&#039;s Monument to Ida B. Wells - ECPv6.3.3.1//NONSGML v1.0//EN
CALSCALE:GREGORIAN
METHOD:PUBLISH
X-WR-CALNAME:The Light of Truth: Richard Hunt&#039;s Monument to Ida B. Wells
X-ORIGINAL-URL:http://amonumentforidabfilm.com
X-WR-CALDESC:Events for The Light of Truth: Richard Hunt&#039;s Monument to Ida B. Wells
REFRESH-INTERVAL;VALUE=DURATION:PT1H
X-Robots-Tag:noindex
X-PUBLISHED-TTL:PT1H
BEGIN:VTIMEZONE
TZID:UTC
BEGIN:STANDARD
TZOFFSETFROM:+0000
TZOFFSETTO:+0000
TZNAME:UTC
DTSTART:20200101T000000
END:STANDARD
END:VTIMEZONE
BEGIN:VEVENT
DTSTART;TZID=UTC:20200306T173000
DTEND;TZID=UTC:20200306T200000
DTSTAMP:20260423T224514
CREATED:20200223T182608Z
LAST-MODIFIED:20200302T010513Z
UID:577-1583515800-1583524800@amonumentforidabfilm.com
SUMMARY:African American Women and the Vote: A Centennial Review
DESCRIPTION:Women’s History Month Program \nAfrican American Women and the Vote: A Centennial Review \nWith speakers Kathleen Thompson and Michelle Duster \nFriday\, March 6\, 2020 \n5:30 PM \nHarold Washington Library\nCindy Pritzker Auditorium\n401 S. Plymouth Ct. Entrance\nChicago\, IL \n“A Monument for Ida B”\nA Documentary Film in the Making About the Ida B. Wells Monument\nChicago filmmakers Laurie Little and Rana Segal are working on a documentary film about the life of Ida B. Wells and the creation of a monument honoring her work designed by renowned sculptor Richard Hunt.The monument will be installed on the site of the old Ida B. Wells public housing development in Bronzeville. A short trailer from the film will be shown along with a talk back with the directors. \nCo-sponsored by the Chicago Women’s History Center and the Chicago Public Library Women’s History Month and African American History Month Committees.
URL:http://amonumentforidabfilm.com/event/african-american-women-and-the-vote-a-centennial-review/
LOCATION:Harold Washington Library  Cindy Pritzker Auditorium\, 401 S. Plymouth Ct.\, Chicago\, United States
ATTACH;FMTTYPE=image/jpeg:http://amonumentforidabfilm.com/wp-content/uploads/2020/02/screening1.jpg
END:VEVENT
END:VCALENDAR