BEGIN:VCALENDAR
VERSION:2.0
PRODID:-//The Light of Truth: Richard Hunt&#039;s Monument to Ida B. Wells - ECPv6.3.3.1//NONSGML v1.0//EN
CALSCALE:GREGORIAN
METHOD:PUBLISH
X-WR-CALNAME:The Light of Truth: Richard Hunt&#039;s Monument to Ida B. Wells
X-ORIGINAL-URL:http://amonumentforidabfilm.com
X-WR-CALDESC:Events for The Light of Truth: Richard Hunt&#039;s Monument to Ida B. Wells
REFRESH-INTERVAL;VALUE=DURATION:PT1H
X-Robots-Tag:noindex
X-PUBLISHED-TTL:PT1H
BEGIN:VTIMEZONE
TZID:UTC
BEGIN:STANDARD
TZOFFSETFROM:+0000
TZOFFSETTO:+0000
TZNAME:UTC
DTSTART:20230101T000000
END:STANDARD
END:VTIMEZONE
BEGIN:VEVENT
DTSTART;TZID=UTC:20231012T180000
DTEND;TZID=UTC:20231012T190000
DTSTAMP:20260424T045427
CREATED:20231011T144843Z
LAST-MODIFIED:20231012T164427Z
UID:910-1697133600-1697137200@amonumentforidabfilm.com
SUMMARY:Virtual Screening & Filmmaker Discussion with Media Burn
DESCRIPTION:Join us for an inspiring virtual preview screening of an excerpt from an in-process documentary celebrating a pioneering woman and the process of creating a public monument to honor her. The event will include a discussion with filmmakers Rana Segal and Laurie Little. \nNote: the discussion will be recorded for later viewing\, but the documentary will only be viewable during the live event. \n\n\n\n\nThis event is free to attend. Media Burn is a 501(c)3 nonprofit\, and we depend on donations to continue our work. Please consider making a donation along with your ticket signup\, or at mediaburn.org/donate or by texting MEDIABURN to 44321. \n\nRegister for event
URL:http://amonumentforidabfilm.com/event/virtual-screening-filmmaker-discussion-with-media-burn/
LOCATION:Virtual
ATTACH;FMTTYPE=image/jpeg:http://amonumentforidabfilm.com/wp-content/uploads/2023/10/123275759_187074939563191_8295176715862620463_n.jpg
END:VEVENT
BEGIN:VEVENT
DTSTART;TZID=UTC:20231015T140000
DTEND;TZID=UTC:20231015T160000
DTSTAMP:20260424T045427
CREATED:20231011T151111Z
LAST-MODIFIED:20231011T151111Z
UID:914-1697378400-1697385600@amonumentforidabfilm.com
SUMMARY:Documentary Screening & Panel at Woodson Library
DESCRIPTION:Join the Chicago Women’s History Center and Chicago Public Library’s Vivian G. Harsh Research Collection for a screening of the new documentary The Light of Truth: Richard Hunt’s Monument To Ida B. Wells. A panel presentation with historian Michelle Duster (Ida B. Well’s great-granddaughter) and filmmakers Laurie Little and Rana Segal will follow the screening. \nLearn more about the screening
URL:http://amonumentforidabfilm.com/event/documentary-screening-panel-at-woodson-library/
LOCATION:Woodson Regional\, 9525 S. Halsted Street\, Chicago\, IL\, 60628\, United States
ATTACH;FMTTYPE=image/jpeg:http://amonumentforidabfilm.com/wp-content/uploads/2023/10/screening-poster-1015.jpeg
END:VEVENT
END:VCALENDAR