BEGIN:VCALENDAR
VERSION:2.0
PRODID:-//The Light of Truth: Richard Hunt&#039;s Monument to Ida B. Wells - ECPv6.3.3.1//NONSGML v1.0//EN
CALSCALE:GREGORIAN
METHOD:PUBLISH
X-WR-CALNAME:The Light of Truth: Richard Hunt&#039;s Monument to Ida B. Wells
X-ORIGINAL-URL:http://amonumentforidabfilm.com
X-WR-CALDESC:Events for The Light of Truth: Richard Hunt&#039;s Monument to Ida B. Wells
REFRESH-INTERVAL;VALUE=DURATION:PT1H
X-Robots-Tag:noindex
X-PUBLISHED-TTL:PT1H
BEGIN:VTIMEZONE
TZID:UTC
BEGIN:STANDARD
TZOFFSETFROM:+0000
TZOFFSETTO:+0000
TZNAME:UTC
DTSTART:20240101T000000
END:STANDARD
END:VTIMEZONE
BEGIN:VEVENT
DTSTART;TZID=UTC:20240306T190000
DTEND;TZID=UTC:20240306T190000
DTSTAMP:20260423T211634
CREATED:20240211T193340Z
LAST-MODIFIED:20240211T194011Z
UID:1061-1709751600-1709751600@amonumentforidabfilm.com
SUMMARY:Screening and Q&A
DESCRIPTION:Wayfarer Theaters in partnership with Luminist Films\, present a special preview screening of The Light of Truth: Richard Hunt’s Monument to Ida B. Wells.\nWith a post-show discussion featuring filmmaker Rana Segal and Producer Laurie Little.
URL:http://amonumentforidabfilm.com/event/screening/
LOCATION:Wayfarer Highland Park\, 1850 Second Street\, Highland Park\, IL\, 60035\, United States
ATTACH;FMTTYPE=image/jpeg:http://amonumentforidabfilm.com/wp-content/uploads/2024/01/NewThe-Light-of-Truth-Poster_18x24@150DPI-scaled.jpg
END:VEVENT
END:VCALENDAR