BEGIN:VCALENDAR
VERSION:2.0
PRODID:-//The Light of Truth: Richard Hunt&#039;s Monument to Ida B. Wells - ECPv6.3.3.1//NONSGML v1.0//EN
CALSCALE:GREGORIAN
METHOD:PUBLISH
X-WR-CALNAME:The Light of Truth: Richard Hunt&#039;s Monument to Ida B. Wells
X-ORIGINAL-URL:http://amonumentforidabfilm.com
X-WR-CALDESC:Events for The Light of Truth: Richard Hunt&#039;s Monument to Ida B. Wells
REFRESH-INTERVAL;VALUE=DURATION:PT1H
X-Robots-Tag:noindex
X-PUBLISHED-TTL:PT1H
BEGIN:VTIMEZONE
TZID:UTC
BEGIN:STANDARD
TZOFFSETFROM:+0000
TZOFFSETTO:+0000
TZNAME:UTC
DTSTART:20240101T000000
END:STANDARD
END:VTIMEZONE
BEGIN:VEVENT
DTSTART;TZID=UTC:20240418T110000
DTEND;TZID=UTC:20240418T123000
DTSTAMP:20260423T193914
CREATED:20240415T114056Z
LAST-MODIFIED:20240925T011303Z
UID:1135-1713438000-1713443400@amonumentforidabfilm.com
SUMMARY:EBERTFEST
DESCRIPTION:Special Screening of The Light of Truth: Richard Hunt’s Monument to Ida B. Wells at the 25th Anniversary of EBERTFEST 11am\, on April 18th.\nhttps://ebertfest.com/film-schedule
URL:http://amonumentforidabfilm.com/event/ebertfest/
LOCATION:Virginia Theatre\, 203 West Park Avenue\, Champaign\, Illinois\, 61820
ATTACH;FMTTYPE=image/jpeg:http://amonumentforidabfilm.com/wp-content/uploads/2024/04/ebertfest3.jpg
END:VEVENT
END:VCALENDAR