BEGIN:VCALENDAR
VERSION:2.0
PRODID:-//The Light of Truth: Richard Hunt&#039;s Monument to Ida B. Wells - ECPv6.3.3.1//NONSGML v1.0//EN
CALSCALE:GREGORIAN
METHOD:PUBLISH
X-ORIGINAL-URL:http://amonumentforidabfilm.com
X-WR-CALDESC:Events for The Light of Truth: Richard Hunt&#039;s Monument to Ida B. Wells
REFRESH-INTERVAL;VALUE=DURATION:PT1H
X-Robots-Tag:noindex
X-PUBLISHED-TTL:PT1H
BEGIN:VTIMEZONE
TZID:UTC
BEGIN:STANDARD
TZOFFSETFROM:+0000
TZOFFSETTO:+0000
TZNAME:UTC
DTSTART:20240101T000000
END:STANDARD
END:VTIMEZONE
BEGIN:VEVENT
DTSTART;TZID=UTC:20240912T170000
DTEND;TZID=UTC:20240912T210000
DTSTAMP:20260423T111751
CREATED:20240815T140523Z
LAST-MODIFIED:20240915T141529Z
UID:1187-1726160400-1726174800@amonumentforidabfilm.com
SUMMARY:Remembering & Celebrating Richard Hunt
DESCRIPTION:Excerpts from our new film “ Richard Hunt: A Monumental Life” and from “The Light of Truth: Richard Hunt’s Monument to Ida B. Wells will screen at Cliff Dwellers Club for Richard Hunt’s 89th birthday celebration – starts at 5pm after the street naming ceremony. Let’s celebrate our memories of this great man together on his birthday- Sept 12!\n\nMore info:\nRichard Hunt was an extraordinary world-renowned artist and very dear to the Club. He was born on September 12\, 1935 and passed away on December 16\, 2023.\n\nIn celebration of what would have been his 89th birthday\, let’s gather for a special film screening of:\n\nThe Light of Truth: Richard Hunt’s Monument to Ida B. Wells\n\nThis documentary\, directed by Rana Segal\, weaves together the stories of Richard’s life and creative process with accounts of Ida B. Wells and her heroic and unwavering fight for justice. It also shows the deep and caring community behind this important and powerful monument.\n\nWe’re inviting film producers Rana Segal & Laurie Little\, Vincent Singleton along with Michelle Duster (great-granddaughter of Ida B. Wells)  to share some of their personal memories of Richard.  There will be an open mic for the many friends of Richard who want to pay tribute to this major sculptor and Honorary Club member. The evening will also include a birthday cake and joyful singing.\n\n5:00 p.m. cash bar opens\n6:00 p.m. dinner\n7:00 p.m. film screening\n8:00 p.m. toast and talks\n \nDinner and Program: $49 members $55 non-members\nreservations@cliff-chicago.org\nOr call 312-922-8080
URL:http://amonumentforidabfilm.com/event/remembering-celebrating-richard-hunt/
LOCATION:Illinois
ATTACH;FMTTYPE=image/jpeg:http://amonumentforidabfilm.com/wp-content/uploads/2024/08/Rhunt-monument.jpg
END:VEVENT
BEGIN:VEVENT
DTSTART;TZID=UTC:20240928T110000
DTEND;TZID=UTC:20240928T123000
DTSTAMP:20260423T111751
CREATED:20240915T194533Z
LAST-MODIFIED:20240915T194533Z
UID:1202-1727521200-1727526600@amonumentforidabfilm.com
SUMMARY:Pittsburgh Screening
DESCRIPTION:SATURDAY\, SEPTEMBER 28\, 2024\nTHE LIGHT OF TRUTH: RICHARD HUNT’S MONUMENT TO IDA B. WELLS (2021) \nOMNI WILLIAM PENN HOTEL\n530 William Penn Pl\nPittsburgh\, PA 15219 \n\n11:00 A.M. \n\nFree and open to the public \nASSOCIATION FOR THE STUDY OF AFRICAN AMERICAN LIFE AND HISTORY
URL:http://amonumentforidabfilm.com/event/pittsburgh-screening/
LOCATION:Illinois
ATTACH;FMTTYPE=image/jpeg:http://amonumentforidabfilm.com/wp-content/uploads/2024/01/NewThe-Light-of-Truth-PosterAB_8x102-scaled.jpg
END:VEVENT
END:VCALENDAR